BEGIN:VCALENDAR
VERSION:2.0
PRODID:-//ChamberMaster//Event Calendar 2.0//EN
METHOD:PUBLISH
X-PUBLISHED-TTL:P1H
REFRESH-INTERVAL:P1H
CALSCALE:GREGORIAN
BEGIN:VTIMEZONE
TZID:America/Los_Angeles
BEGIN:DAYLIGHT
RRULE:FREQ=YEARLY;BYMONTH=3;BYDAY=2SU
DTSTART:20070101T000000
TZOFFSETFROM:-0800
TZOFFSETTO:-0700
TZNAME:Pacific Daylight Time
END:DAYLIGHT
BEGIN:STANDARD
RRULE:FREQ=YEARLY;BYMONTH=11;BYDAY=1SU
DTSTART:20070101T000000
TZOFFSETFROM:-0700
TZOFFSETTO:-0800
TZNAME:Pacific Standard Time
END:STANDARD
END:VTIMEZONE
BEGIN:VEVENT
DTSTART;TZID=America/Los_Angeles:20260509T090000
DTEND;TZID=America/Los_Angeles:20260509T140000
X-MICROSOFT-CDO-ALLDAYEVENT:FALSE
SUMMARY:38th Annual Plant Sale
DESCRIPTION:The Kitsap County Master Gardener Foundation's biggest fundraiser returns Mother's Day Weekend! This free\, family-friendly event includes a vast selection of annuals\, perennials\, native plants\, and more at great prices. \nIn 2025\, the Master Gardener Program donated nearly 2.5 tons pf food to local food banks\, answered over 1500 garden-related questions from the public\, and donated more than 17k hrs of their time serving the Kitsap gardening community.
X-ALT-DESC;FMTTYPE=text/html:The Kitsap County Master Gardener Foundation's biggest fundraiser returns Mother's Day Weekend! This free\, family-friendly event includes a vast selection of annuals\, perennials\, native plants\, and more at great prices. \nIn 2025\, the Master Gardener Program donated nearly 2.5 tons pf food to local food banks\, answered over 1500 garden-related questions from the public\, and donated more than 17k hrs of their time serving the Kitsap gardening community.
LOCATION:1200 Fairgrounds Road NW Bremerton WA 98311
UID:e.3508.1445786
SEQUENCE:3
DTSTAMP:20260420T181323Z
URL:https://business.kingstonchamber.com/events/Details/38th-annual-plant-sale-1712439?sourceTypeId=Hub
END:VEVENT
END:VCALENDAR
