BEGIN:VCALENDAR
VERSION:2.0
PRODID:-//ChamberMaster//Event Calendar 2.0//EN
METHOD:PUBLISH
X-PUBLISHED-TTL:P1H
REFRESH-INTERVAL:P1H
CALSCALE:GREGORIAN
BEGIN:VTIMEZONE
TZID:America/Los_Angeles
BEGIN:DAYLIGHT
RRULE:FREQ=YEARLY;BYMONTH=3;BYDAY=2SU
DTSTART:20070101T000000
TZOFFSETFROM:-0800
TZOFFSETTO:-0700
TZNAME:Pacific Daylight Time
END:DAYLIGHT
BEGIN:STANDARD
RRULE:FREQ=YEARLY;BYMONTH=11;BYDAY=1SU
DTSTART:20070101T000000
TZOFFSETFROM:-0700
TZOFFSETTO:-0800
TZNAME:Pacific Standard Time
END:STANDARD
END:VTIMEZONE
BEGIN:VEVENT
DTSTART;TZID=America/Los_Angeles:20260411T100000
DTEND;TZID=America/Los_Angeles:20260509T130000
X-MICROSOFT-CDO-ALLDAYEVENT:FALSE
SUMMARY:Book Sale Donation Drop-Offs
DESCRIPTION:Please bring your donations of Children's Books\, Fiction & Non-fiction books\, audio books\, CDs. DVDs. records\, Jigsaw Puzzles and board games. Please no VHS tapes\, encyclopedias\, magazines\, tetbooks or home recorded DVDs or CDs.\nThere will be a huge Spring Book Sale June 19\, 20\, & 21
X-ALT-DESC;FMTTYPE=text/html:Please bring your donations of Children's Books\, Fiction & Non-fiction books\, audio books\, CDs. DVDs. records\, Jigsaw Puzzles and board games. Please no VHS tapes\, encyclopedias\, magazines\, tetbooks or home recorded DVDs or CDs.\nThere will be a huge Spring Book Sale June 19\, 20\, & 21
LOCATION:6778 Buck Lake Rd Hansville WA 98340
UID:e.3508.1441275
SEQUENCE:3
DTSTAMP:20260420T180334Z
URL:https://business.kingstonchamber.com/events/Details/book-sale-donation-drop-offs-1706494?sourceTypeId=Hub
END:VEVENT
END:VCALENDAR
