BEGIN:VCALENDAR
VERSION:2.0
PRODID:-//ChamberMaster//Event Calendar 2.0//EN
METHOD:PUBLISH
X-PUBLISHED-TTL:P1H
REFRESH-INTERVAL:P1H
CALSCALE:GREGORIAN
BEGIN:VTIMEZONE
TZID:America/Los_Angeles
BEGIN:DAYLIGHT
RRULE:FREQ=YEARLY;BYMONTH=3;BYDAY=2SU
DTSTART:20070101T000000
TZOFFSETFROM:-0800
TZOFFSETTO:-0700
TZNAME:Pacific Daylight Time
END:DAYLIGHT
BEGIN:STANDARD
RRULE:FREQ=YEARLY;BYMONTH=11;BYDAY=1SU
DTSTART:20070101T000000
TZOFFSETFROM:-0700
TZOFFSETTO:-0800
TZNAME:Pacific Standard Time
END:STANDARD
END:VTIMEZONE
BEGIN:VEVENT
DTSTART;TZID=America/Los_Angeles:20260606T100000
DTEND;TZID=America/Los_Angeles:20260606T140000
X-MICROSOFT-CDO-ALLDAYEVENT:FALSE
SUMMARY:Heronswoof
DESCRIPTION:As one of the few PNW public gardens to welcome leashed dogs\, we wanted to celebrate our companions by bringing them together here at Heronswood. We'll have fun events for pooches\, including a doggie treasure trail\, with refreshments for them and their owners. Woof!
X-ALT-DESC;FMTTYPE=text/html:<!DOCTYPE html><html><head><title></title></head><body aria-disabled="false"><p><meta charset="utf-8"><span style='color: rgb(33\, 37\, 41)\; font-family: -apple-system\, "system-ui"\, "Segoe UI"\, Roboto\, "Helvetica Neue"\, Ubuntu\, "Noto Sans"\, Arial\, "Odoo Unicode Support Noto"\, sans-serif\, "Apple Color Emoji"\, "Segoe UI Emoji"\, "Segoe UI Symbol"\, "Noto Color Emoji"\; font-size: 16px\; font-style: normal\; font-variant-ligatures: normal\; font-variant-caps: normal\; font-weight: 400\; letter-spacing: normal\; orphans: 2\; text-align: start\; text-indent: 0px\; text-transform: none\; widows: 2\; word-spacing: 0px\; -webkit-text-stroke-width: 0px\; white-space: normal\; background-color: rgb(255\, 255\, 255)\; text-decoration-thickness: initial\; text-decoration-style: initial\; text-decoration-color: initial\; display: inline !important\; float: none\;'>As one of the few PNW public gardens to welcome leashed dogs\, we wanted to celebrate our companions by bringing them together here at Heronswood. We&#39\;ll have fun events for pooches\, including a doggie treasure trail\, with refreshments for them and their owners. Woof!</span></p></body></html>
LOCATION:
UID:e.3508.1436551
SEQUENCE:3
DTSTAMP:20260420T175900Z
URL:https://business.kingstonchamber.com/events/Details/heronswoof-1700570?sourceTypeId=Hub
END:VEVENT
END:VCALENDAR
