BEGIN:VCALENDAR
VERSION:2.0
PRODID:-//ChamberMaster//Event Calendar 2.0//EN
METHOD:PUBLISH
X-PUBLISHED-TTL:P1H
REFRESH-INTERVAL:P1H
CALSCALE:GREGORIAN
BEGIN:VTIMEZONE
TZID:America/Los_Angeles
BEGIN:DAYLIGHT
RRULE:FREQ=YEARLY;BYMONTH=3;BYDAY=2SU
DTSTART:20070101T000000
TZOFFSETFROM:-0800
TZOFFSETTO:-0700
TZNAME:Pacific Daylight Time
END:DAYLIGHT
BEGIN:STANDARD
RRULE:FREQ=YEARLY;BYMONTH=11;BYDAY=1SU
DTSTART:20070101T000000
TZOFFSETFROM:-0700
TZOFFSETTO:-0800
TZNAME:Pacific Standard Time
END:STANDARD
END:VTIMEZONE
BEGIN:VEVENT
DTSTART;TZID=America/Los_Angeles:20260507T113000
DTEND;TZID=America/Los_Angeles:20260507T130000
X-MICROSOFT-CDO-ALLDAYEVENT:FALSE
SUMMARY:May 7th Chamber Luncheon
DESCRIPTION:Melissa Tanno of the Small Business Development Center at WWU Peninsulas will join us to talk about their resources for members and how they can help grow your business. We'll also hear from our sponsor\, North Kitsap Schools Foundation\, and provide updates on our Chamber scholarship process and recipients!
X-ALT-DESC;FMTTYPE=text/html:<!DOCTYPE html><html><head><title></title></head><body aria-disabled="false"><p>Melissa Tanno of the Small Business Development Center at WWU Peninsulas will join us to talk about their resources for members and how they can help grow your business. We&#39\;ll also hear from our sponsor\, North Kitsap Schools Foundation\, and provide updates on our Chamber scholarship process and recipients!</p></body></html>
LOCATION:26159 Dulay Road NE Kingston WA 98346
UID:e.3508.1446403
SEQUENCE:3
DTSTAMP:20260420T175824Z
URL:https://business.kingstonchamber.com/events/Details/may-7th-chamber-luncheon-1713135?sourceTypeId=Hub
END:VEVENT
END:VCALENDAR
