BEGIN:VCALENDAR
VERSION:2.0
PRODID:-//ChamberMaster//Event Calendar 2.0//EN
METHOD:PUBLISH
X-PUBLISHED-TTL:P1H
REFRESH-INTERVAL:P1H
CALSCALE:GREGORIAN
BEGIN:VTIMEZONE
TZID:America/Los_Angeles
BEGIN:DAYLIGHT
RRULE:FREQ=YEARLY;BYMONTH=3;BYDAY=2SU
DTSTART:20070101T000000
TZOFFSETFROM:-0800
TZOFFSETTO:-0700
TZNAME:Pacific Daylight Time
END:DAYLIGHT
BEGIN:STANDARD
RRULE:FREQ=YEARLY;BYMONTH=11;BYDAY=1SU
DTSTART:20070101T000000
TZOFFSETFROM:-0700
TZOFFSETTO:-0800
TZNAME:Pacific Standard Time
END:STANDARD
END:VTIMEZONE
BEGIN:VEVENT
DTSTART;TZID=America/Los_Angeles:20260412T173000
DTEND;TZID=America/Los_Angeles:20260412T193000
X-MICROSOFT-CDO-ALLDAYEVENT:FALSE
SUMMARY:Sarah Shea Trio Plays Cellar Cat
DESCRIPTION:Intoxicating\, charming\, classically jazzy but oh-so-smoothly swinging\, SARAH SHEA returns to CELLAR CAT on Sunday\, April 12th  5:30 p.m.Cellar Cat loves bringing back extraordinary talent to our home-away-from-home listening audience.  Sarah Shea\, the winner of last year's Seattle-Kobe Vocalist contest\, graced with natural talent\, has clearly been practicing her craft & delivers the kind of feels we yearn to feel when listening to the USofA's most important art form.
X-ALT-DESC;FMTTYPE=text/html:<!DOCTYPE html><html><head><title></title></head><body aria-disabled="false"><p style='outline-offset: 4px\; border: 0px\; box-sizing: border-box\; font-style: normal\; font-variant-ligatures: normal\; font-variant-caps: normal\; font-variant-numeric: inherit\; font-variant-east-asian: inherit\; font-variant-alternates: inherit\; font-variant-position: inherit\; font-variant-emoji: inherit\; font-stretch: inherit\; line-height: 25px !important\; font-family: "Open Sans"\, sans-serif\; font-optical-sizing: inherit\; font-size-adjust: inherit\; font-kerning: inherit\; font-feature-settings: inherit\; font-variation-settings: inherit\; font-language-override: inherit\; font-size: 15px !important\; font-weight: 400\; margin: 0px 0px 20px !important\; padding: 0px !important\; vertical-align: baseline\; display: block\; width: 722.797px\; color: rgb(74\, 74\, 74)\; opacity: 0.9 !important\; word-break: break-word\; letter-spacing: normal\; orphans: 2\; text-align: start\; text-indent: 0px\; text-transform: none\; widows: 2\; word-spacing: 0px\; -webkit-text-stroke-width: 0px\; white-space: normal\; background-color: rgb(255\, 255\, 255)\; text-decoration-thickness: initial\; text-decoration-style: initial\; text-decoration-color: initial\;'>Intoxicating\, charming\, classically jazzy but oh-so-smoothly swinging\, <strong fr-original-style="outline-offset: 4px\; border: 0px\; box-sizing: border-box\; font-style: inherit\; font-variant: inherit\; font-stretch: inherit\; line-height: inherit\; font-family: inherit\; font-optical-sizing: inherit\; font-size-adjust: inherit\; font-kerning: inherit\; font-feature-settings: inherit\; font-variation-settings: inherit\; font-language-override: inherit\; font-size: 15px\; font-weight: bold\; margin: 0px\; padding: 0px\; vertical-align: baseline\;" style="outline-offset: 4px\; border: 0px\; box-sizing: border-box\; font-style: inherit\; font-variant: inherit\; font-stretch: inherit\; line-height: inherit\; font-family: inherit\; font-optical-sizing: inherit\; font-size-adjust: inherit\; font-kerning: inherit\; font-feature-settings: inherit\; font-variation-settings: inherit\; font-language-override: inherit\; font-size: 15px\; font-weight: bold\; margin: 0px\; padding: 0px\; vertical-align: baseline\;">SARAH SHEA</strong> returns to CELLAR CAT on Sunday\, April 12th &nbsp\;5:30 p.m.</p><p style='outline-offset: 4px\; border: 0px\; box-sizing: border-box\; font-style: normal\; font-variant-ligatures: normal\; font-variant-caps: normal\; font-variant-numeric: inherit\; font-variant-east-asian: inherit\; font-variant-alternates: inherit\; font-variant-position: inherit\; font-variant-emoji: inherit\; font-stretch: inherit\; line-height: 25px !important\; font-family: "Open Sans"\, sans-serif\; font-optical-sizing: inherit\; font-size-adjust: inherit\; font-kerning: inherit\; font-feature-settings: inherit\; font-variation-settings: inherit\; font-language-override: inherit\; font-size: 15px !important\; font-weight: 400\; margin: 0px 0px 20px !important\; padding: 0px !important\; vertical-align: baseline\; display: block\; width: 722.797px\; color: rgb(74\, 74\, 74)\; opacity: 0.9 !important\; word-break: break-word\; letter-spacing: normal\; orphans: 2\; text-align: start\; text-indent: 0px\; text-transform: none\; widows: 2\; word-spacing: 0px\; -webkit-text-stroke-width: 0px\; white-space: normal\; background-color: rgb(255\, 255\, 255)\; text-decoration-thickness: initial\; text-decoration-style: initial\; text-decoration-color: initial\;'>Cellar Cat loves bringing back extraordinary talent to our home-away-from-home listening audience. <strong fr-original-style="outline-offset: 4px\; border: 0px\; box-sizing: border-box\; font-style: inherit\; font-variant: inherit\; font-stretch: inherit\; line-height: inherit\; font-family: inherit\; font-optical-sizing: inherit\; font-size-adjust: inherit\; font-kerning: inherit\; font-feature-settings: inherit\; font-variation-settings: inherit\; font-language-override: inherit\; font-size: 15px\; font-weight: bold\; margin: 0px\; padding: 0px\; vertical-align: baseline\;" style="outline-offset: 4px\; border: 0px\; box-sizing: border-box\; font-style: inherit\; font-variant: inherit\; font-stretch: inherit\; line-height: inherit\; font-family: inherit\; font-optical-sizing: inherit\; font-size-adjust: inherit\; font-kerning: inherit\; font-feature-settings: inherit\; font-variation-settings: inherit\; font-language-override: inherit\; font-size: 15px\; font-weight: bold\; margin: 0px\; padding: 0px\; vertical-align: baseline\;">&nbsp\;Sarah Shea</strong>\, the winner of last year&#39\;s Seattle-Kobe Vocalist contest\, graced with natural talent\, has clearly been practicing her craft &amp\; delivers the kind of feels we yearn to feel when listening to the USofA&#39\;s most important art form.</p></body></html>
LOCATION:
UID:e.3508.1441022
SEQUENCE:3
DTSTAMP:20260420T180242Z
URL:https://business.kingstonchamber.com/events/Details/sarah-shea-trio-plays-cellar-cat-1706224?sourceTypeId=Hub
END:VEVENT
END:VCALENDAR
