BEGIN:VCALENDAR
VERSION:2.0
PRODID:-//ChamberMaster//Event Calendar 2.0//EN
METHOD:PUBLISH
X-PUBLISHED-TTL:P1H
REFRESH-INTERVAL:P1H
CALSCALE:GREGORIAN
BEGIN:VTIMEZONE
TZID:America/Los_Angeles
BEGIN:DAYLIGHT
RRULE:FREQ=YEARLY;BYMONTH=3;BYDAY=2SU
DTSTART:20070101T000000
TZOFFSETFROM:-0800
TZOFFSETTO:-0700
TZNAME:Pacific Daylight Time
END:DAYLIGHT
BEGIN:STANDARD
RRULE:FREQ=YEARLY;BYMONTH=11;BYDAY=1SU
DTSTART:20070101T000000
TZOFFSETFROM:-0700
TZOFFSETTO:-0800
TZNAME:Pacific Standard Time
END:STANDARD
END:VTIMEZONE
BEGIN:VEVENT
DTSTART;TZID=America/Los_Angeles:20260503T100000
DTEND;TZID=America/Los_Angeles:20260503T140000
X-MICROSOFT-CDO-ALLDAYEVENT:FALSE
SUMMARY:Spring Sale - 1ST Major Plant Sale of 2026
DESCRIPTION:Our first major plant sale of 2026 will feature nurseries from across the Pacific Northwest\, each selling a drool-worthy selection of rare\, unusual\, and just plain gorgeous garden plants. Every purchase includes a donation to Heronswood\, so don't feel guilty when buying! Food and craft vendors will be on site\, plus entrance to the garden is free\, so come see the Woodland Garden at its floral peak.
X-ALT-DESC;FMTTYPE=text/html:<!DOCTYPE html><html><head><title></title></head><body aria-disabled="false"><p><meta charset="utf-8"></p><p style='box-sizing: border-box\; margin-top: 0px\; margin-bottom: 16px\; color: rgb(33\, 37\, 41)\; font-family: -apple-system\, "system-ui"\, "Segoe UI"\, Roboto\, "Helvetica Neue"\, Ubuntu\, "Noto Sans"\, Arial\, "Odoo Unicode Support Noto"\, sans-serif\, "Apple Color Emoji"\, "Segoe UI Emoji"\, "Segoe UI Symbol"\, "Noto Color Emoji"\; font-size: 16px\; font-style: normal\; font-variant-ligatures: normal\; font-variant-caps: normal\; font-weight: 400\; letter-spacing: normal\; orphans: 2\; text-align: start\; text-indent: 0px\; text-transform: none\; widows: 2\; word-spacing: 0px\; -webkit-text-stroke-width: 0px\; white-space: normal\; background-color: rgb(255\, 255\, 255)\; text-decoration-thickness: initial\; text-decoration-style: initial\; text-decoration-color: initial\;'>Our first major plant sale of 2026 will feature nurseries from across the Pacific Northwest\, each selling a drool-worthy selection of rare\, unusual\, and just plain gorgeous garden plants. Every purchase includes a donation to Heronswood\, so don&#39\;t feel guilty when buying! Food and craft vendors will be on site\, plus entrance to the garden is free\, so come see the Woodland Garden at its floral peak.&nbsp\;</p></body></html>
LOCATION:7530 NE 288th St Kingston WA 98346
UID:e.3508.1436549
SEQUENCE:3
DTSTAMP:20260420T180823Z
URL:https://business.kingstonchamber.com/events/Details/spring-sale-1st-major-plant-sale-of-2026-1700568?sourceTypeId=Hub
END:VEVENT
END:VCALENDAR
